BEGIN:VCALENDAR
VERSION:2.0
PRODID:-//NMSPE Albuquerque Chapter - ECPv6.15.20//NONSGML v1.0//EN
CALSCALE:GREGORIAN
METHOD:PUBLISH
X-WR-CALNAME:NMSPE Albuquerque Chapter
X-ORIGINAL-URL:https://nmspeabq.org
X-WR-CALDESC:Events for NMSPE Albuquerque Chapter
REFRESH-INTERVAL;VALUE=DURATION:PT1H
X-Robots-Tag:noindex
X-PUBLISHED-TTL:PT1H
BEGIN:VTIMEZONE
TZID:America/Denver
BEGIN:DAYLIGHT
TZOFFSETFROM:-0700
TZOFFSETTO:-0600
TZNAME:MDT
DTSTART:20180311T090000
END:DAYLIGHT
BEGIN:STANDARD
TZOFFSETFROM:-0600
TZOFFSETTO:-0700
TZNAME:MST
DTSTART:20181104T080000
END:STANDARD
BEGIN:DAYLIGHT
TZOFFSETFROM:-0700
TZOFFSETTO:-0600
TZNAME:MDT
DTSTART:20190310T090000
END:DAYLIGHT
BEGIN:STANDARD
TZOFFSETFROM:-0600
TZOFFSETTO:-0700
TZNAME:MST
DTSTART:20191103T080000
END:STANDARD
BEGIN:DAYLIGHT
TZOFFSETFROM:-0700
TZOFFSETTO:-0600
TZNAME:MDT
DTSTART:20200308T090000
END:DAYLIGHT
BEGIN:STANDARD
TZOFFSETFROM:-0600
TZOFFSETTO:-0700
TZNAME:MST
DTSTART:20201101T080000
END:STANDARD
BEGIN:DAYLIGHT
TZOFFSETFROM:-0700
TZOFFSETTO:-0600
TZNAME:MDT
DTSTART:20210314T090000
END:DAYLIGHT
BEGIN:STANDARD
TZOFFSETFROM:-0600
TZOFFSETTO:-0700
TZNAME:MST
DTSTART:20211107T080000
END:STANDARD
BEGIN:DAYLIGHT
TZOFFSETFROM:-0700
TZOFFSETTO:-0600
TZNAME:MDT
DTSTART:20220313T090000
END:DAYLIGHT
BEGIN:STANDARD
TZOFFSETFROM:-0600
TZOFFSETTO:-0700
TZNAME:MST
DTSTART:20221106T080000
END:STANDARD
BEGIN:DAYLIGHT
TZOFFSETFROM:-0700
TZOFFSETTO:-0600
TZNAME:MDT
DTSTART:20230312T090000
END:DAYLIGHT
BEGIN:STANDARD
TZOFFSETFROM:-0600
TZOFFSETTO:-0700
TZNAME:MST
DTSTART:20231105T080000
END:STANDARD
END:VTIMEZONE
BEGIN:VTIMEZONE
TZID:UTC
BEGIN:STANDARD
TZOFFSETFROM:+0000
TZOFFSETTO:+0000
TZNAME:UTC
DTSTART:20170101T000000
END:STANDARD
END:VTIMEZONE
BEGIN:VEVENT
DTSTART;TZID=America/Denver:20221117T114500
DTEND;TZID=America/Denver:20221117T130000
DTSTAMP:20260424T101939
CREATED:20221116T232017Z
LAST-MODIFIED:20221116T232017Z
UID:4745-1668685500-1668690000@nmspeabq.org
SUMMARY:Albuquerque Chapter Luncheon - November 17\, 2022
DESCRIPTION:
URL:https://nmspeabq.org/event/albuquerque-chapter-luncheon-november-17-2022/
LOCATION:El Pinto Restaurant\, 10500 Fourth Street NW\, Albuquerque\, NM\, 87114\, United States
CATEGORIES:Luncheons
END:VEVENT
BEGIN:VEVENT
DTSTART;TZID=America/Denver:20221020T114500
DTEND;TZID=America/Denver:20221020T130000
DTSTAMP:20260424T101939
CREATED:20221010T210220Z
LAST-MODIFIED:20221010T210232Z
UID:4644-1666266300-1666270800@nmspeabq.org
SUMMARY:October 20\, 2022 Luncheon
DESCRIPTION:
URL:https://nmspeabq.org/event/october-20-2022-luncheon/
LOCATION:NM
CATEGORIES:Luncheons
END:VEVENT
BEGIN:VEVENT
DTSTART;TZID=America/Denver:20220915T114500
DTEND;TZID=America/Denver:20220915T130000
DTSTAMP:20260424T101939
CREATED:20220824T082224Z
LAST-MODIFIED:20220824T082224Z
UID:4572-1663242300-1663246800@nmspeabq.org
SUMMARY:September 15\, 2022 Luncheon
DESCRIPTION:The Chapter will change luncheon venues in the fall to keep luncheon prices reasonable.  Please join us for our next luncheon at M’Tucci’s Twenty-Five on Thursday\, September 15\, 2022. \nPlan on attending these luncheons at El Pinto on 10/20\, 11/17\, and 12/15.  \n  \nNMSPE-ABQ Chapter Monthly Luncheon\nSeptember 15\, 2022\, 11:30 am to 1 pm\, $35 \nM’Tucci’s Twenty-Five Restaurant \n4939 Pan American Fwy NE \n  \n  \nRegister Now
URL:https://nmspeabq.org/event/september-15-2022-luncheon/
LOCATION:M’Tucci’s Twenty-Five Restaurant\, 4939 Pan American Fwy NE\, Albuquerque\, NM\, 87109-2230\, United States
END:VEVENT
BEGIN:VEVENT
DTSTART;TZID=America/Denver:20220803T173000
DTEND;TZID=America/Denver:20220803T173000
DTSTAMP:20260424T101939
CREATED:20220728T082229Z
LAST-MODIFIED:20220728T082229Z
UID:4546-1659547800-1659547800@nmspeabq.org
SUMMARY:
DESCRIPTION:Beers with Engineers\nAugust 3\, 2022\, 5:30 pm to 7 pm\nHosted by the NMSPE-ABQ Chapter to celebrate National PE Day\nat Bosque Brewing Company\n5210 Eubank Blvd NE
URL:https://nmspeabq.org/event/4546/
LOCATION:Bosque Brewing\, 5210 Eubank Blvd NE\, Albuquerque\, NM\, 87004-5979\, United States
END:VEVENT
BEGIN:VEVENT
DTSTART;TZID=America/Denver:20220611T080000
DTEND;TZID=America/Denver:20220611T170000
DTSTAMP:20260424T101939
CREATED:20220509T013534Z
LAST-MODIFIED:20220509T013616Z
UID:4466-1654934400-1654966800@nmspeabq.org
SUMMARY:2022 Annual Meeting
DESCRIPTION:The annual meeting will be held on Friday\, June 10\, 2022. \nPlease check back soon for updates about our speakers. \n  \n\nRegister for the 2022 Annual Meeting
URL:https://nmspeabq.org/event/2022-annual-meeting/
LOCATION:NM
END:VEVENT
BEGIN:VEVENT
DTSTART;TZID=America/Denver:20220519T234500
DTEND;TZID=America/Denver:20220519T234500
DTSTAMP:20260424T101939
CREATED:20220501T042442Z
LAST-MODIFIED:20220501T042537Z
UID:4432-1653003900-1653003900@nmspeabq.org
SUMMARY:May 19\, 2022 Luncheon
DESCRIPTION:May 19\, 2022 Luncheon\n  \n\nRegister Now
URL:https://nmspeabq.org/event/may-19-2022-luncheon/
LOCATION:Pappadeaux Restaurant\, 5011 Pan American West Fwy NE\, Albuquerque\, NM\, 87109\, United States
CATEGORIES:Luncheons
END:VEVENT
BEGIN:VEVENT
DTSTART;TZID=America/Denver:20220421T114500
DTEND;TZID=America/Denver:20220421T130000
DTSTAMP:20260424T101939
CREATED:20220401T022740Z
LAST-MODIFIED:20220401T022749Z
UID:4380-1650541500-1650546000@nmspeabq.org
SUMMARY:April 21\, 2022 Luncheon
DESCRIPTION:Please join us for our Monthly Luncheon on April 21\, 2022\, at 11:45 p.m. at Pappadeaux Restaurant\n  \n\nRegister Now
URL:https://nmspeabq.org/event/april-21-2022-luncheon/
LOCATION:Pappadeaux Restaurant\, 5011 Pan American West Fwy NE\, Albuquerque\, NM\, 87109\, United States
END:VEVENT
BEGIN:VEVENT
DTSTART;TZID=America/Denver:20220317T114500
DTEND;TZID=America/Denver:20220317T130000
DTSTAMP:20260424T101939
CREATED:20220411T022914Z
LAST-MODIFIED:20220411T022921Z
UID:4402-1647517500-1647522000@nmspeabq.org
SUMMARY:March 17\, 2022 Luncheon
DESCRIPTION:March 17\, 2022 Luncheon\n  \nGuest Speaker Craig Krief\, COSMIAC\n  \nCOSMIAC overview March 2022 SWCP
URL:https://nmspeabq.org/event/march-17-2022-luncheon/
LOCATION:Pappadeaux Restaurant\, 5011 Pan American West Fwy NE\, Albuquerque\, NM\, 87109\, United States
CATEGORIES:Luncheons
END:VEVENT
BEGIN:VEVENT
DTSTART;VALUE=DATE:20220218
DTEND;VALUE=DATE:20220219
DTSTAMP:20260424T101939
CREATED:20220217T002600Z
LAST-MODIFIED:20220219T035655Z
UID:4332-1645142400-1645228799@nmspeabq.org
SUMMARY:E-Week 2022
DESCRIPTION:Join us virtually for E-Week on Friday\, February 18\, 2022. Check your e-mail for future updates.\n  \nJoin us for presentations by Abbas Akhil\, Ron R. Mosher\, PE\, Senior Water Resources Engineer with Molzen Corbin & Associates\, Dr. Olga Lavrova\, Associate Professor at New Mexico State University\, Saif Ismail\, CEM\, Energy and Sustainability Manager for the City of Albuquerque and Karl Tonander\, PG\, PE\, CEO of Souder\, Miller & Associates and Acting Chair of the NMBLPEPS.  Awards for Outstanding Engineering Student\, Project of the Year\, and Outstanding Engineer of the Year will be presented during the lunch break from 12 pm to 1 pm on our Zoom Virtual Conference.  Don’t miss this exciting and educational experience! \n  \nRegister Now
URL:https://nmspeabq.org/event/e-week-2022/
LOCATION:NM
END:VEVENT
BEGIN:VEVENT
DTSTART;TZID=America/Denver:20220120T114500
DTEND;TZID=America/Denver:20220120T130000
DTSTAMP:20260424T101939
CREATED:20220217T003251Z
LAST-MODIFIED:20220217T003302Z
UID:4336-1642679100-1642683600@nmspeabq.org
SUMMARY:January 20\, 2022 Luncheon
DESCRIPTION:January 20\, 2022 Luncheon! \nAlaric Babej\, Manager of Customer Energy Solutions at Public Service Company of New Mexico gave a great presentation on overseeing utility programs focused on energy efficiency\, electrification\, and renewable energy.  Mr. Babej helped to design and launch an online interconnection process that reduced the time required to evaluate customer solar applications by 80%.
URL:https://nmspeabq.org/event/january-20-2022-luncheon/
LOCATION:Pappadeaux Restaurant\, 5011 Pan American West Fwy NE\, Albuquerque\, NM\, 87109\, United States
END:VEVENT
BEGIN:VEVENT
DTSTART;TZID=America/Denver:20211216T114500
DTEND;TZID=America/Denver:20211216T130000
DTSTAMP:20260424T101939
CREATED:20211123T003439Z
LAST-MODIFIED:20211123T003502Z
UID:4265-1639655100-1639659600@nmspeabq.org
SUMMARY:Monthly Luncheon\, December 16\, 2021
DESCRIPTION:Monthly NMSPE ABQ Chapter Luncheons are now back! The next luncheon will be on Thursday\, December 16\, 2021\, from 11:45 a.m. to 1 p.m. at Pappadeaux Restaurant.\n  \nRegister Now
URL:https://nmspeabq.org/event/monthly-luncheon-december-16-2021/
LOCATION:Pappadeaux Restaurant\, 5011 Pan American West Fwy NE\, Albuquerque\, NM\, 87109\, United States
END:VEVENT
BEGIN:VEVENT
DTSTART;TZID=America/Denver:20211118T114500
DTEND;TZID=America/Denver:20211118T130000
DTSTAMP:20260424T101939
CREATED:20211101T031408Z
LAST-MODIFIED:20211108T225106Z
UID:4247-1637235900-1637240400@nmspeabq.org
SUMMARY:Monthly Luncheon November 18\, 2021
DESCRIPTION:Monthly NMSPE ABQ Chapter Luncheons are now back! The next luncheon will be on Thursday\, November 18\, 2021\, from 11:45 a.m. to 1 p.m. at Pappadeaux Restaurant.\n  \nRegister Now
URL:https://nmspeabq.org/event/monthly-luncheon-november-18-2021/
LOCATION:Pappadeaux Restaurant\, 5011 Pan American West Fwy NE\, Albuquerque\, NM\, 87109\, United States
END:VEVENT
BEGIN:VEVENT
DTSTART;TZID=America/Denver:20211112T080000
DTEND;TZID=America/Denver:20211112T150000
DTSTAMP:20260424T101939
CREATED:20210904T031052Z
LAST-MODIFIED:20211101T024908Z
UID:4210-1636704000-1636729200@nmspeabq.org
SUMMARY:NMSPE Issues Conference November 12\, 2021
DESCRIPTION:NMSPE Issues Conference\nNovember 12\, 2021\n  \n\nSpeakers for our November 12\, 2021\, Annual Issues Conference have been selected.  Please reserve this date now for our Virtual event!  \n\n  \n\n2021 Issues Conference Registration \n\n\n\n  \n\n\n\n\n\n\nDr. Mostafa Hassanalian\, Ph.D.\n\n  \nDr. Mostafa Hassanalian is an Assistant Professor in the Department of Mechanical Engineering and the director of the Autonomous Flight and Aquatic Systems Laboratory (AFASL) at New Mexico Tech. He earned his Ph.D. and Master of Science in Mechanical Engineering from New Mexico State University in July 2018 and December 2016\, respectively. His main research interests are in the fields of unmanned aerial and aquatic systems\, bioinspiration and biomimetics\, swarm and formation flight\, novel mechanisms for space exploration\, heated boundary layer\, and drag reduction mechanisms.\n\n\n\n\n\n\n\n\n\n\n\n\n\n\n\n\n\n\n\n\n\n\n\n\n\n\n\n\n\n\nDr. Hassanalian serves as PI and Co-PI of ~$5M from NSF\, NASA\, NIOSH-CDC\, and Alpha Foundation. During the past five years\, Dr. Hassanalian has authored over 160 peer-reviewed journal and conference publications. Some parts of his research have been featured by NBC\, Science Magazine\, New Scientist\, Forbes\, Discover Magazine\, WOWScience\, etc. He is currently serving as the advisor of 15 graduate students and about 50 undergraduate students. Dr. Hassanalian is the faculty advisor of the New Mexico Tech American Institute of Aeronautics and Astronautics (AIAA) and Society of Allied Weight Engineers (SAWE) student chapters.\n\nThe title of Dr. Hassanalian’s talk is\, “Drone Technology & Their Applications in Industry and Beyond” and will be worth 1 PDH.\n\n\n\n\n\n\n\nList of Other Presenters……\n\nConcerning the Issue of Energy Management:\n\nGary Oppedahl\, V.P. – Emerging Technology\, Emera Technologies\, presenting:\n“Utility-Owned Microgrids for Energy Resilience and Carbon Reduction”\n8:00 AM to 8:55 AM – 1 PDH\n\n\nAt this year’s conference\, we wish to highlight presenters from each of our New Mexico engineering universities.\n\nFrom the NMSU Department of Civil Engineering:\nDr Pei Xu\, Dr Nirmala Khandan & Dr Salim Bawazir covering\, “Overview of Water Research at NMSU”\n9:00 AM to 9:55 AM – 1 PDH\n\nFrom the UNM Center for Water and the Environment:\nDr Kerry Howe\, Director – presenting\,\n“Recycling Wastewater Into Our Potable Water Supply and the Removal of Trace Organic Chemicals”\n11:00 AM to 11:55 AM – 1 PDH\n\n\nThis Year’s Ethics Presenter:\n\nKarl Tonander\, P.G.\, P.E.\nCEO of Souder\, Miller & Associates addressing\,\n“Changes to the Licensing Environment in New Mexico and Nationally; the Ethics of a Self-Regulated Profession”\n1:00 PM to 3:00 PM – 2 PDHs
URL:https://nmspeabq.org/event/nmspe-issues-conference-november-12-2021/
LOCATION:NM
END:VEVENT
BEGIN:VEVENT
DTSTART;TZID=America/Denver:20211021T114500
DTEND;TZID=America/Denver:20211021T130000
DTSTAMP:20260424T101939
CREATED:20210904T030721Z
LAST-MODIFIED:20211101T030657Z
UID:4206-1634816700-1634821200@nmspeabq.org
SUMMARY:NMSPE ABQ Chapter Luncheon - October
DESCRIPTION:NMSPE ABQ Chapter Luncheon\nOctober 21\, 2021 \nfrom 11:45 a.m. to 1:00 p.m. \n  \n  \nRegister for the October Luncheon
URL:https://nmspeabq.org/event/nmspe-abq-chapter-luncheon-october/
LOCATION:Pappadeaux Restaurant\, 5011 Pan American West Fwy NE\, Albuquerque\, NM\, 87109\, United States
END:VEVENT
BEGIN:VEVENT
DTSTART;TZID=America/Denver:20210916T234500
DTEND;TZID=America/Denver:20210916T234500
DTSTAMP:20260424T101939
CREATED:20210507T212915Z
LAST-MODIFIED:20210904T031146Z
UID:4141-1631835900-1631835900@nmspeabq.org
SUMMARY:NMSPE ABQ Chapter Luncheon - September
DESCRIPTION:The monthly Luncheons are now back! The first one to start the 2021 year will be on Thursday\, September 16\, 2021\, from 12 p.m. to 1 p.m. Please use the event page to sign up ahead of time! \n  \n  \n\nRegister Now
URL:https://nmspeabq.org/event/nmspe-abq-chapter-luncheon/
LOCATION:Pappadeaux Restaurant\, 5011 Pan American West Fwy NE\, Albuquerque\, NM\, 87109\, United States
END:VEVENT
BEGIN:VEVENT
DTSTART;TZID=America/Denver:20210903T114500
DTEND;TZID=America/Denver:20210903T130000
DTSTAMP:20260424T101939
CREATED:20210904T030850Z
LAST-MODIFIED:20210904T030932Z
UID:4208-1630669500-1630674000@nmspeabq.org
SUMMARY:NMSPE ABQ Chapter Luncheon - November
DESCRIPTION:NMSPE ABQ Chapter Luncheon\nThursday\, November 18\, 2021 \n11:45 p.m. to 1:00 p.m. \n  \nPlease check back soon for registration!
URL:https://nmspeabq.org/event/nmspe-abq-chapter-luncheon-november/
LOCATION:Pappadeaux Restaurant\, 5011 Pan American West Fwy NE\, Albuquerque\, NM\, 87109\, United States
END:VEVENT
BEGIN:VEVENT
DTSTART;TZID=America/Denver:20210717T080000
DTEND;TZID=America/Denver:20210717T170000
DTSTAMP:20260424T101939
CREATED:20210409T233819Z
LAST-MODIFIED:20210409T234423Z
UID:4116-1626508800-1626541200@nmspeabq.org
SUMMARY:Covid Be Gone - Golf Tournament
DESCRIPTION:COVID BE GONE\nGolf Tournament\nAn NMSPE Albuquerque Chapter Event \nSaturday\, July 17\, 2021 \n8:00 a.m. Shotgun Start \nSandia Golf Club \nPer Person: $125 — Team: $500 \n  \n\nRegister Now
URL:https://nmspeabq.org/event/covid-be-gone-golf-tournament/
LOCATION:Sandia Golf Club\, 30 Rainbow Road\, Albuquerque\, NM\, 87113\, United States
END:VEVENT
BEGIN:VEVENT
DTSTART;VALUE=DATE:20210226
DTEND;VALUE=DATE:20210227
DTSTAMP:20260424T101939
CREATED:20210127T051631Z
LAST-MODIFIED:20210127T051631Z
UID:3976-1614297600-1614383999@nmspeabq.org
SUMMARY:Annual E-Week Conference
DESCRIPTION:The Annual E-Week Conference on Friday\, January 26\, 2021.\nMore information about prices and guest on the registration page. \n \n  \n\nRegister Now
URL:https://nmspeabq.org/event/annual-e-week-conference/
LOCATION:NM
END:VEVENT
BEGIN:VEVENT
DTSTART;TZID=America/Denver:20200319T114500
DTEND;TZID=America/Denver:20200319T130000
DTSTAMP:20260424T101939
CREATED:20200303T174739Z
LAST-MODIFIED:20200303T174739Z
UID:3821-1584618300-1584622800@nmspeabq.org
SUMMARY:March 2020 Luncheon - Jerry Paz P.E.\, Exec. VP\, Molzen Corbin & Associates
DESCRIPTION:
URL:https://nmspeabq.org/event/march-2020-luncheon/
LOCATION:Pappadeaux Restaurant\, 5011 Pan American West Fwy NE\, Albuquerque\, NM\, 87109\, United States
END:VEVENT
BEGIN:VEVENT
DTSTART;TZID=America/Denver:20200310T070000
DTEND;TZID=America/Denver:20200310T154500
DTSTAMP:20260424T101939
CREATED:20200118T175437Z
LAST-MODIFIED:20200118T175437Z
UID:3530-1583823600-1583855100@nmspeabq.org
SUMMARY:E-Week 2020 - Catch-up Payments
DESCRIPTION:
URL:https://nmspeabq.org/event/e-week-2020/
LOCATION:Sheraton Albuquerque Uptown\, 2600 Louisiana Blvd. NE\, Albuquerque\, NM\, 87110\, United States
END:VEVENT
BEGIN:VEVENT
DTSTART;TZID=America/Denver:20200221T080000
DTEND;TZID=America/Denver:20200221T134500
DTSTAMP:20260424T101939
CREATED:20200120T013818Z
LAST-MODIFIED:20200120T013818Z
UID:3552-1582272000-1582292700@nmspeabq.org
SUMMARY:E-Week Sponsorships
DESCRIPTION:Be an E-Week Sponsor to receive special recognition for your company! \nThank you for Sponsoring Engineers Week!
URL:https://nmspeabq.org/event/e-week-sponsorships-2/
LOCATION:NM
END:VEVENT
BEGIN:VEVENT
DTSTART;TZID=America/Denver:20191017T114500
DTEND;TZID=America/Denver:20191017T130000
DTSTAMP:20260424T101939
CREATED:20191009T181504Z
LAST-MODIFIED:20211208T034720Z
UID:3388-1571312700-1571317200@nmspeabq.org
SUMMARY:October Luncheon
DESCRIPTION:Powerpoint by Will W. Brown\, P.E.\, during the October Luncheon about \nNatural Gas Role in the Clean Energy Future \n2021 Natural Gas Role in Clean Energy Future 10-21-21 (NM Engineers) by Will W. Brown\, P.E. – October Luncheon Guest Speaker
URL:https://nmspeabq.org/event/october-luncheon-2/
LOCATION:Nick and Jimmy’s Restaurant\, 5021 Pan American West Fwy NE\, Albuquerque\, NM\, 87109\, United States
END:VEVENT
BEGIN:VEVENT
DTSTART;TZID=America/Denver:20190920T114500
DTEND;TZID=America/Denver:20190920T114500
DTSTAMP:20260424T101939
CREATED:20190830T122924Z
LAST-MODIFIED:20190830T122924Z
UID:3328-1568979900-1568979900@nmspeabq.org
SUMMARY:September Luncheon - Jerry Lovato\, P.E.\, AMAFCA
DESCRIPTION:Thank you for your reservation!
URL:https://nmspeabq.org/event/september-luncheon-jerry-lovato-p-e-amafca/
LOCATION:Nick and Jimmy’s Restaurant\, 5021 Pan American West Fwy NE\, Albuquerque\, NM\, 87109\, United States
END:VEVENT
BEGIN:VEVENT
DTSTART;TZID=America/Denver:20190815T114500
DTEND;TZID=America/Denver:20190815T130000
DTSTAMP:20260424T101939
CREATED:20190725T210238Z
LAST-MODIFIED:20190725T210238Z
UID:3277-1565869500-1565874000@nmspeabq.org
SUMMARY:August Luncheon
DESCRIPTION:Join NMSPE and Eric Sorte\, Sandia National Labs to learn about What’s Happening inside a battery.
URL:https://nmspeabq.org/event/august-luncheon/
LOCATION:Nick and Jimmy’s Restaurant\, 5021 Pan American West Fwy NE\, Albuquerque\, NM\, 87109\, United States
END:VEVENT
BEGIN:VEVENT
DTSTART;TZID=America/Denver:20190718T114500
DTEND;TZID=America/Denver:20190718T130000
DTSTAMP:20260424T101939
CREATED:20190630T220207Z
LAST-MODIFIED:20190630T220207Z
UID:3231-1563450300-1563454800@nmspeabq.org
SUMMARY:July Luncheon
DESCRIPTION:Don’t miss this update on the National Museum of Nuclear Science & History here in Albuquerque from Jennifer Hayden who is the Director of PR & Marketing!  New permanent location:  Nick and Jimmy’s Restaurant!\nView the menu! \n 
URL:https://nmspeabq.org/event/july-luncheon-2/
LOCATION:Nick and Jimmy’s Restaurant\, 5021 Pan American West Fwy NE\, Albuquerque\, NM\, 87109\, United States
END:VEVENT
BEGIN:VEVENT
DTSTART;TZID=America/Denver:20190530T114500
DTEND;TZID=America/Denver:20190530T130000
DTSTAMP:20260424T101939
CREATED:20190515T232229Z
LAST-MODIFIED:20190515T232229Z
UID:3118-1559216700-1559221200@nmspeabq.org
SUMMARY:May Luncheon - Special Day and Location!
DESCRIPTION:Join NMSPE and Rocky Lioce\, Facebook Data Center Campus Facility Manager “High Efficiency Data Center Design and Operation” \nRocky Lioce is the Los Lunas Data Center Campus Facility Manager. For the past 23 years\, Rocky has worked in facilities engineering\, operations\, and construction for multiple large organizations in New Mexico\, including Intel and Sandia Labs. He holds a degree in Mechanical Engineering from the University of New Mexico\, and is a licensed professional engineer.  The focus of the presentation is high efficiency data center design and operation. He will focus on the publicly shared info from the open compute project\, and how that was applied in Los Lunas. \nWhen:  Thursday\, May 30\, 2019 11:45 am – 1:00 pm\nWhere:  UNM Centennial Engineering\, Stamm Room\nCost:  $25.00
URL:https://nmspeabq.org/event/may-luncheon-special-day-and-location/
LOCATION:UNM Centennial Engineering\, 300 Redondo W Dr\, Albuquerque\, NM\, 87106\, United States
END:VEVENT
BEGIN:VEVENT
DTSTART;TZID=UTC:20190423T114500
DTEND;TZID=UTC:20190423T130000
DTSTAMP:20260424T101939
CREATED:20190406T214943Z
LAST-MODIFIED:20190406T214943Z
UID:2969-1556019900-1556024400@nmspeabq.org
SUMMARY:April Luncheon - Ashok Ghosh\, Ph.D.\, Stronger American Cities – Closing the Skills Gap and Building Entrepreneurial Ecosystem
DESCRIPTION:
URL:https://nmspeabq.org/event/april-luncheon-ashok-ghosh-ph-d-stronger-american-cities-closing-skills-gap-building-entrepreneurial-ecosystem/
LOCATION:Romano’s Macaroni Grill\, 2100 Louisiana Blvd. NE\, Albuquerque\, NM\, 87110\, United States
END:VEVENT
BEGIN:VEVENT
DTSTART;TZID=UTC:20190312T114500
DTEND;TZID=UTC:20190314T170000
DTSTAMP:20260424T101939
CREATED:20190227T024815Z
LAST-MODIFIED:20190227T024815Z
UID:2930-1552391100-1552582800@nmspeabq.org
SUMMARY:March 12\, 2019 Luncheon Payment
DESCRIPTION:Pay for luncheon.  Keynote Speaker – Dr. Jonathan Wolfe
URL:https://nmspeabq.org/event/march-luncheon-2/
LOCATION:NM State Bar Assoc.\, 5121 Masthead NE\, Albuquerque\, NM\, 87109\, United States
CATEGORIES:Luncheons
END:VEVENT
BEGIN:VEVENT
DTSTART;TZID=UTC:20180410T114500
DTEND;TZID=UTC:20180410T130000
DTSTAMP:20260424T101939
CREATED:20180321T223657Z
LAST-MODIFIED:20180321T223657Z
UID:2720-1523360700-1523365200@nmspeabq.org
SUMMARY:April Luncheon
DESCRIPTION:Joins us to hear an update from the State Legislature!
URL:https://nmspeabq.org/event/april-luncheon-rep-larry-larranaga-pe/
LOCATION:NM State Bar Assoc.\, 5121 Masthead NE\, Albuquerque\, NM\, 87109\, United States
END:VEVENT
BEGIN:VEVENT
DTSTART;TZID=UTC:20180319T114500
DTEND;TZID=UTC:20180319T130000
DTSTAMP:20260424T101939
CREATED:20180223T223206Z
LAST-MODIFIED:20180223T223206Z
UID:2704-1521459900-1521464400@nmspeabq.org
SUMMARY:New PE Certificate Presentation Ceremony
DESCRIPTION:
URL:https://nmspeabq.org/event/new-pe-certificate-presentation-ceremony/
LOCATION:Sheraton Albuquerque Uptown\, 2600 Louisiana Blvd. NE\, Albuquerque\, NM\, 87110\, United States
CATEGORIES:Luncheons
END:VEVENT
END:VCALENDAR